BEGIN:VCALENDAR
VERSION:2.0
PRODID:-//ChamberMaster//Event Calendar 2.0//EN
METHOD:PUBLISH
X-PUBLISHED-TTL:P1H
REFRESH-INTERVAL:P1H
CALSCALE:GREGORIAN
BEGIN:VTIMEZONE
TZID:America/Chicago
BEGIN:DAYLIGHT
RRULE:FREQ=YEARLY;BYMONTH=3;BYDAY=2SU
DTSTART:20070101T000000
TZOFFSETFROM:-0600
TZOFFSETTO:-0500
TZNAME:Central Daylight Time
END:DAYLIGHT
BEGIN:STANDARD
RRULE:FREQ=YEARLY;BYMONTH=11;BYDAY=1SU
DTSTART:20070101T000000
TZOFFSETFROM:-0500
TZOFFSETTO:-0600
TZNAME:Central Standard Time
END:STANDARD
END:VTIMEZONE
BEGIN:VEVENT
DTSTART;TZID=America/Chicago:20250922T120000
DTEND;TZID=America/Chicago:20250922T140000
X-MICROSOFT-CDO-ALLDAYEVENT:FALSE
SUMMARY:Score: How to Create Snazzy Graphics for Social Media Step-by-Step Demo
DESCRIPTION:This workshop will offer step-by-step demos of some tools you can use to create banner images or images for social media or a blog post\, presentations\, videos\, and more. Wordart.com is a word cloud tool\nPickochart.com is a tool for infographics and more\, and you can try a few for free before you buy\nCanva.com is a graphic design tool and you can use it for social media\, personal\, business\, marketing\, education\, and more. There are so many templates available\, and with too many to list\, take a peek yourself! https://www.canva.com/templates/Join us to learn more! We will allow time for Q&A.Register Here Meet Our Presenter: Lynne Williams\, Ed.D. Candidate\, is the Executive Director of the Great Careers Network\, which provides online career development and networking for career transition (job seekers) and career management (employed and self-employed). Lynne writes resumes\, LinkedIn profiles\, and LinkedIn company pages\, and focuses on keywords. She is currently working on her doctoral dissertation on the topic of LinkedIn. Connect on LinkedIn at www.linkedin.com/in/lynnewilliams and visit https://linktr.ee/lynnewilliams to learn more. Lynne has been on the SCORE Speakers' Bureau since 2013.
X-ALT-DESC;FMTTYPE=text/html:<!DOCTYPE html><html><head><title></title></head><body aria-disabled="false"><p>This workshop will offer step-by-step demos of some tools you can use to create banner images or images for social media or a blog post\, presentations\, videos\, and more.&nbsp\;</p><p><a fr-original-style="" href="https://m8pxcw4ab.cc.rs6.net/tn.jsp?f=001N6J5wd64Hvz-UaJ1ku12lA-Uu0DPb1yAPnhKw8KaNfGOdYNBudpbyzmusl8eLJmfpOkAX_EGsqmw7TxkfLPiiXJSgLC3uT-4GLfUWVqZjJy7KEZ66gbv91YMh1AmJs7N1CnoX5EMMnfQMSw9PUc9Og==&c=2eFnHVOZvKPdRc1MfcQ6zSk5h_qan0g6mgYaL8P4LohGcsxOqNpfoA==&ch=OMdnZbkWn4Ss7Cvg9NFfNyUUfA-ygjf5CQrLiNULxyp6aCtiEyEa5g==" style="user-select: auto\;" target="_blank"><strong fr-original-style="" style="font-weight: 700\;">Wordart.com</strong></a> is a word cloud tool<br><a fr-original-style="" href="https://m8pxcw4ab.cc.rs6.net/tn.jsp?f=001N6J5wd64Hvz-UaJ1ku12lA-Uu0DPb1yAPnhKw8KaNfGOdYNBudpbyzmusl8eLJmfn1mwkadsAPALMoBT2PMWNaVIGjjOxTKoCCBZrGzlPtzOtY_8YIHOPH0kk6ejWARy22aKndidQMBjEXI67VCAcQ==&c=2eFnHVOZvKPdRc1MfcQ6zSk5h_qan0g6mgYaL8P4LohGcsxOqNpfoA==&ch=OMdnZbkWn4Ss7Cvg9NFfNyUUfA-ygjf5CQrLiNULxyp6aCtiEyEa5g==" style="user-select: auto\;" target="_blank"><strong fr-original-style="" style="font-weight: 700\;">Pickochart.com</strong></a> is a tool for infographics and more\, and you can try a few for free before you buy<br><a fr-original-style="" href="https://m8pxcw4ab.cc.rs6.net/tn.jsp?f=001N6J5wd64Hvz-UaJ1ku12lA-Uu0DPb1yAPnhKw8KaNfGOdYNBudpbyzmusl8eLJmf5SO4ENjUzgNbj5sOkMiuqtS99vIKErwMh_n58xVzA007tjklfcA6lUbG_dBcJ7oKINaVCDxV0JWscVUQhq4mlA==&c=2eFnHVOZvKPdRc1MfcQ6zSk5h_qan0g6mgYaL8P4LohGcsxOqNpfoA==&ch=OMdnZbkWn4Ss7Cvg9NFfNyUUfA-ygjf5CQrLiNULxyp6aCtiEyEa5g==" style="user-select: auto\;" target="_blank"><strong fr-original-style="" style="font-weight: 700\;">Canva.com</strong></a> is a graphic design tool and you can use it for social media\, personal\, business\, marketing\, education\, and more. There are so many templates available\, and with too many to list\, take a peek yourself! <a fr-original-style="" href="https://m8pxcw4ab.cc.rs6.net/tn.jsp?f=001N6J5wd64Hvz-UaJ1ku12lA-Uu0DPb1yAPnhKw8KaNfGOdYNBudpbyxker4QkOzi9H2tIwK9oiqGV88zQFV0lhD16O6PYQuNC7wcAG_g6RaGQeBGM92BqrMz5jw5YCEtFEWZThvWEQTOuYqMYfV_jD86BaagkWKpi7DdsIcfiue4=&c=2eFnHVOZvKPdRc1MfcQ6zSk5h_qan0g6mgYaL8P4LohGcsxOqNpfoA==&ch=OMdnZbkWn4Ss7Cvg9NFfNyUUfA-ygjf5CQrLiNULxyp6aCtiEyEa5g==" style="user-select: auto\;" target="_blank"><strong fr-original-style="" style="font-weight: 700\;">https://www.canva.com/templates/</strong></a></p><p>Join us to learn more! We will allow time for Q&amp\;A.</p><p><a fr-original-style="" href="https://score.zoom.us/webinar/register/WN_a4NlA2g9QUGS7zzslSgg0Q#/registration" style="user-select: auto\;">Register Here</a>&nbsp\;</p><p><strong fr-original-style="" style="font-weight: 700\;">Meet Our Presenter:</strong> Lynne Williams\, Ed.D. Candidate\, is the Executive Director of the Great Careers Network\, which provides online career development and networking for career transition (job seekers) and career management (employed and self-employed). Lynne writes resumes\, LinkedIn profiles\, and LinkedIn company pages\, and focuses on keywords. She is currently working on her doctoral dissertation on the topic of LinkedIn. Connect on LinkedIn at www.linkedin.com/in/lynnewilliams and visit https://linktr.ee/lynnewilliams to learn more. Lynne has been on the SCORE Speakers&rsquo\; Bureau since 2013.</p></body></html>
LOCATION:
UID:e.2735.1275275
SEQUENCE:3
DTSTAMP:20260422T085343Z
URL:https://business.hancockchamber.org/businessresourcecenter/Details/score-how-to-create-snazzy-graphics-for-social-media-step-by-step-demo-1493318?sourceTypeId=Hub
END:VEVENT
END:VCALENDAR
