BEGIN:VCALENDAR
VERSION:2.0
PRODID:-//ChamberMaster//Event Calendar 2.0//EN
METHOD:PUBLISH
X-PUBLISHED-TTL:P1H
REFRESH-INTERVAL:P1H
CALSCALE:GREGORIAN
BEGIN:VTIMEZONE
TZID:America/Chicago
BEGIN:DAYLIGHT
RRULE:FREQ=YEARLY;BYMONTH=3;BYDAY=2SU
DTSTART:20070101T000000
TZOFFSETFROM:-0600
TZOFFSETTO:-0500
TZNAME:Central Daylight Time
END:DAYLIGHT
BEGIN:STANDARD
RRULE:FREQ=YEARLY;BYMONTH=11;BYDAY=1SU
DTSTART:20070101T000000
TZOFFSETFROM:-0500
TZOFFSETTO:-0600
TZNAME:Central Standard Time
END:STANDARD
END:VTIMEZONE
BEGIN:VEVENT
DTSTART;TZID=America/Chicago:20261118T170000
DTEND;TZID=America/Chicago:20261118T180000
X-MICROSOFT-CDO-ALLDAYEVENT:FALSE
SUMMARY:Business After Hours - Taste of Hancock Pre-Party hosted by Community Bank
DESCRIPTION:Join the Hancock Chamber for this Chamber members exclusive pre-tasting social hour prior to Taste of Hancock\, hosted by Community Bank.There will be an opportunity to purchase your ticket to Taste of Hancock during and after the Pre-Party.
X-ALT-DESC;FMTTYPE=text/html:<!DOCTYPE html><html><head><title></title></head><body aria-disabled="false"><p>Join the Hancock Chamber for this Chamber members exclusive pre-tasting social hour prior to Taste of Hancock\, hosted by Community Bank.</p><p>There will be an opportunity to purchase your ticket to Taste of Hancock during and after the Pre-Party.</p></body></html>
LOCATION:301 Blaize Avenue Bay St. Louis MS 39520
UID:e.2735.1410307
SEQUENCE:3
DTSTAMP:20260424T025226Z
URL:https://business.hancockchamber.org/businessafterhours/Details/business-after-hours-taste-of-hancock-pre-party-hosted-by-community-bank-1666535?sourceTypeId=Hub
END:VEVENT
END:VCALENDAR
