BEGIN:VCALENDAR
VERSION:2.0
PRODID:-//ChamberMaster//Event Calendar 2.0//EN
METHOD:PUBLISH
X-PUBLISHED-TTL:P1H
REFRESH-INTERVAL:P1H
CALSCALE:GREGORIAN
BEGIN:VTIMEZONE
TZID:America/Chicago
BEGIN:DAYLIGHT
RRULE:FREQ=YEARLY;BYMONTH=3;BYDAY=2SU
DTSTART:20070101T000000
TZOFFSETFROM:-0600
TZOFFSETTO:-0500
TZNAME:Central Daylight Time
END:DAYLIGHT
BEGIN:STANDARD
RRULE:FREQ=YEARLY;BYMONTH=11;BYDAY=1SU
DTSTART:20070101T000000
TZOFFSETFROM:-0500
TZOFFSETTO:-0600
TZNAME:Central Standard Time
END:STANDARD
END:VTIMEZONE
BEGIN:VEVENT
DTSTART;TZID=America/Chicago:20260507T170000
DTEND;TZID=America/Chicago:20260507T190000
X-MICROSOFT-CDO-ALLDAYEVENT:FALSE
SUMMARY:Business After Hours - Silver Slipper
DESCRIPTION:Join us for the annual Cinco de Mayo Business After Hours at the Beach Bar at Silver Slipper Casino Hotel! We always have a BLAST at this event connecting with the Chambers from neighboring areas. Silver Slipper always throws an amazing party complete with great food and drinks and TONS of giveaways!Business After Hours will be held concurrently with Rumble on the Gulf\, a weekly cruise-in at Silver Slipper. Attendees will have a chance to check out the classic cars and enjoy the live music all with a beautiful Gulf view at sunset!May the Fourth be with you!
X-ALT-DESC;FMTTYPE=text/html:<p>Join us for the annual Cinco de Mayo Business After Hours at the Beach Bar at Silver Slipper Casino Hotel! We always have a BLAST at this event connecting with the Chambers from neighboring areas. Silver Slipper always throws an amazing party complete with great food and drinks and TONS of giveaways!</p><p>Business After Hours will be held concurrently with Rumble on the Gulf\, a weekly cruise-in at Silver Slipper. Attendees will have a chance to check out the classic cars and enjoy the live music all with a beautiful Gulf view at sunset!</p><p>May the Fourth be with you!</p>
LOCATION:5000 South Beach Blvd Bay St Louis MS 39520
UID:e.2735.1386819
SEQUENCE:3
DTSTAMP:20260424T025752Z
URL:https://business.hancockchamber.org/businessafterhours/Details/business-after-hours-silver-slipper-1637785?sourceTypeId=Hub
END:VEVENT
END:VCALENDAR
