BEGIN:VCALENDAR
VERSION:2.0
PRODID:-//ChamberMaster//Event Calendar 2.0//EN
METHOD:PUBLISH
X-PUBLISHED-TTL:P1H
REFRESH-INTERVAL:P1H
CALSCALE:GREGORIAN
BEGIN:VTIMEZONE
TZID:America/Chicago
BEGIN:DAYLIGHT
RRULE:FREQ=YEARLY;BYMONTH=3;BYDAY=2SU
DTSTART:20070101T000000
TZOFFSETFROM:-0600
TZOFFSETTO:-0500
TZNAME:Central Daylight Time
END:DAYLIGHT
BEGIN:STANDARD
RRULE:FREQ=YEARLY;BYMONTH=11;BYDAY=1SU
DTSTART:20070101T000000
TZOFFSETFROM:-0500
TZOFFSETTO:-0600
TZNAME:Central Standard Time
END:STANDARD
END:VTIMEZONE
BEGIN:VEVENT
DTSTART;TZID=America/Chicago:20260625T170000
DTEND;TZID=America/Chicago:20260625T190000
X-MICROSOFT-CDO-ALLDAYEVENT:FALSE
SUMMARY:Business After Hours -Hollywood Casino Gulf Coast
DESCRIPTION:Connect with other Chamber members during this after hours event.
X-ALT-DESC;FMTTYPE=text/html:Connect with other Chamber members during this after hours event.
LOCATION:711 Hollywood Boulevard Bay St. Louis MS 39520
UID:e.2735.1355186
SEQUENCE:3
DTSTAMP:20260424T024715Z
URL:https://business.hancockchamber.org/businessafterhours/Details/business-after-hours-hollywood-casino-gulf-coast-1594719?sourceTypeId=Hub
END:VEVENT
END:VCALENDAR
